BEGIN:VCALENDAR
VERSION:2.0
PRODID:-//eventon.com NONSGML v1.0//EN
CALSCALE:GREGORIAN
METHOD:PUBLISH
BEGIN:VEVENT
UID:69ea08c61c12b
DTSTAMP:20260423T135550
DTSTART:20260517T173000Z
DTEND:20260517T190000Z
TZID:Europe/Paris
LOCATION:
SUMMARY:La séance Yoga du Dimanche soir - 17 mai 2026
DESCRIPTION:La respiration\,  ce chemin vers la détente Cette séance sera axée sur les étirements\,  les appuis et les ouvertures du corps. La respiration consciente au travers des postures se fera de plus en plus présente ; on terminera par une relaxation guidée\,  afin d&rsquo;intégrer les bienfaits de la pratique. Faire[..]\nhttps://sablier-sallier.fr/events/la-seance-yoga-du-dimanche-soir-17-mai-2026/
URL:https://sablier-sallier.fr/events/la-seance-yoga-du-dimanche-soir-17-mai-2026/
END:VEVENT
END:VCALENDAR